BEGIN:VCALENDAR
VERSION:2.0
PRODID:-//The Mountain Church - ECPv6.11.0.1//NONSGML v1.0//EN
CALSCALE:GREGORIAN
METHOD:PUBLISH
X-WR-CALNAME:The Mountain Church
X-ORIGINAL-URL:https://themountainchurch.com
X-WR-CALDESC:Events for The Mountain Church
REFRESH-INTERVAL;VALUE=DURATION:PT1H
X-Robots-Tag:noindex
X-PUBLISHED-TTL:PT1H
BEGIN:VTIMEZONE
TZID:America/Phoenix
BEGIN:STANDARD
TZOFFSETFROM:-0700
TZOFFSETTO:-0700
TZNAME:MST
DTSTART:20300101T000000
END:STANDARD
END:VTIMEZONE
BEGIN:VEVENT
DTSTART;TZID=America/Phoenix:20301006T170000
DTEND;TZID=America/Phoenix:20301006T193000
DTSTAMP:20260422T150505
CREATED:20251110T190455Z
LAST-MODIFIED:20251110T190455Z
UID:10004136-1917536400-1917545400@themountainchurch.com
SUMMARY:Iglesia Cristiana: Esperanza De Vida
DESCRIPTION:Domingo : 5:00 pm
URL:https://themountainchurch.com/event/iglesia-christiana-esperanza-de-vida-2/2030-10-06/
LOCATION:The Mountain Church\, 300 East 8000 South\, Sandy\, UT\, 84070\, United States
END:VEVENT
BEGIN:VEVENT
DTSTART;TZID=America/Phoenix:20301013T130000
DTEND;TZID=America/Phoenix:20301013T153000
DTSTAMP:20260422T150505
CREATED:20240819T175316Z
LAST-MODIFIED:20251110T190006Z
UID:10004017-1918126800-1918135800@themountainchurch.com
SUMMARY:Lighthouse AG
DESCRIPTION:Come join us at 1:30 PM for church at Lighthouse AG Samoan Church. We meet every Sunday at The Mountain Church in Sandy\, UT. You can also join us online via Youtube or Facebook. Livestream starts at 1:30 PM (MST).
URL:https://themountainchurch.com/event/lighthouse-ag/2030-10-13/
LOCATION:The Mountain Church\, 300 East 8000 South\, Sandy\, UT\, 84070\, United States
END:VEVENT
BEGIN:VEVENT
DTSTART;TZID=America/Phoenix:20301013T170000
DTEND;TZID=America/Phoenix:20301013T193000
DTSTAMP:20260422T150505
CREATED:20251110T190455Z
LAST-MODIFIED:20251110T190455Z
UID:10004137-1918141200-1918150200@themountainchurch.com
SUMMARY:Iglesia Cristiana: Esperanza De Vida
DESCRIPTION:Domingo : 5:00 pm
URL:https://themountainchurch.com/event/iglesia-christiana-esperanza-de-vida-2/2030-10-13/
LOCATION:The Mountain Church\, 300 East 8000 South\, Sandy\, UT\, 84070\, United States
END:VEVENT
BEGIN:VEVENT
DTSTART;TZID=America/Phoenix:20301020T130000
DTEND;TZID=America/Phoenix:20301020T153000
DTSTAMP:20260422T150505
CREATED:20240819T175316Z
LAST-MODIFIED:20251110T190006Z
UID:10004018-1918731600-1918740600@themountainchurch.com
SUMMARY:Lighthouse AG
DESCRIPTION:Come join us at 1:30 PM for church at Lighthouse AG Samoan Church. We meet every Sunday at The Mountain Church in Sandy\, UT. You can also join us online via Youtube or Facebook. Livestream starts at 1:30 PM (MST).
URL:https://themountainchurch.com/event/lighthouse-ag/2030-10-20/
LOCATION:The Mountain Church\, 300 East 8000 South\, Sandy\, UT\, 84070\, United States
END:VEVENT
BEGIN:VEVENT
DTSTART;TZID=America/Phoenix:20301020T170000
DTEND;TZID=America/Phoenix:20301020T193000
DTSTAMP:20260422T150505
CREATED:20251110T190455Z
LAST-MODIFIED:20251110T190455Z
UID:10004138-1918746000-1918755000@themountainchurch.com
SUMMARY:Iglesia Cristiana: Esperanza De Vida
DESCRIPTION:Domingo : 5:00 pm
URL:https://themountainchurch.com/event/iglesia-christiana-esperanza-de-vida-2/2030-10-20/
LOCATION:The Mountain Church\, 300 East 8000 South\, Sandy\, UT\, 84070\, United States
END:VEVENT
BEGIN:VEVENT
DTSTART;TZID=America/Phoenix:20301027T130000
DTEND;TZID=America/Phoenix:20301027T153000
DTSTAMP:20260422T150505
CREATED:20240819T175316Z
LAST-MODIFIED:20251110T190006Z
UID:10004019-1919336400-1919345400@themountainchurch.com
SUMMARY:Lighthouse AG
DESCRIPTION:Come join us at 1:30 PM for church at Lighthouse AG Samoan Church. We meet every Sunday at The Mountain Church in Sandy\, UT. You can also join us online via Youtube or Facebook. Livestream starts at 1:30 PM (MST).
URL:https://themountainchurch.com/event/lighthouse-ag/2030-10-27/
LOCATION:The Mountain Church\, 300 East 8000 South\, Sandy\, UT\, 84070\, United States
END:VEVENT
BEGIN:VEVENT
DTSTART;TZID=America/Phoenix:20301027T170000
DTEND;TZID=America/Phoenix:20301027T193000
DTSTAMP:20260422T150505
CREATED:20251110T190455Z
LAST-MODIFIED:20251110T190455Z
UID:10004139-1919350800-1919359800@themountainchurch.com
SUMMARY:Iglesia Cristiana: Esperanza De Vida
DESCRIPTION:Domingo : 5:00 pm
URL:https://themountainchurch.com/event/iglesia-christiana-esperanza-de-vida-2/2030-10-27/
LOCATION:The Mountain Church\, 300 East 8000 South\, Sandy\, UT\, 84070\, United States
END:VEVENT
BEGIN:VEVENT
DTSTART;TZID=America/Phoenix:20301103T130000
DTEND;TZID=America/Phoenix:20301103T153000
DTSTAMP:20260422T150505
CREATED:20240819T175316Z
LAST-MODIFIED:20251110T190006Z
UID:10004020-1919941200-1919950200@themountainchurch.com
SUMMARY:Lighthouse AG
DESCRIPTION:Come join us at 1:30 PM for church at Lighthouse AG Samoan Church. We meet every Sunday at The Mountain Church in Sandy\, UT. You can also join us online via Youtube or Facebook. Livestream starts at 1:30 PM (MST).
URL:https://themountainchurch.com/event/lighthouse-ag/2030-11-03/
LOCATION:The Mountain Church\, 300 East 8000 South\, Sandy\, UT\, 84070\, United States
END:VEVENT
BEGIN:VEVENT
DTSTART;TZID=America/Phoenix:20301103T170000
DTEND;TZID=America/Phoenix:20301103T193000
DTSTAMP:20260422T150505
CREATED:20251110T190455Z
LAST-MODIFIED:20251110T190455Z
UID:10004140-1919955600-1919964600@themountainchurch.com
SUMMARY:Iglesia Cristiana: Esperanza De Vida
DESCRIPTION:Domingo : 5:00 pm
URL:https://themountainchurch.com/event/iglesia-christiana-esperanza-de-vida-2/2030-11-03/
LOCATION:The Mountain Church\, 300 East 8000 South\, Sandy\, UT\, 84070\, United States
END:VEVENT
BEGIN:VEVENT
DTSTART;TZID=America/Phoenix:20301110T130000
DTEND;TZID=America/Phoenix:20301110T153000
DTSTAMP:20260422T150505
CREATED:20240819T175316Z
LAST-MODIFIED:20251110T190006Z
UID:10004021-1920546000-1920555000@themountainchurch.com
SUMMARY:Lighthouse AG
DESCRIPTION:Come join us at 1:30 PM for church at Lighthouse AG Samoan Church. We meet every Sunday at The Mountain Church in Sandy\, UT. You can also join us online via Youtube or Facebook. Livestream starts at 1:30 PM (MST).
URL:https://themountainchurch.com/event/lighthouse-ag/2030-11-10/
LOCATION:The Mountain Church\, 300 East 8000 South\, Sandy\, UT\, 84070\, United States
END:VEVENT
BEGIN:VEVENT
DTSTART;TZID=America/Phoenix:20301110T170000
DTEND;TZID=America/Phoenix:20301110T193000
DTSTAMP:20260422T150505
CREATED:20251110T190455Z
LAST-MODIFIED:20251110T190455Z
UID:10004141-1920560400-1920569400@themountainchurch.com
SUMMARY:Iglesia Cristiana: Esperanza De Vida
DESCRIPTION:Domingo : 5:00 pm
URL:https://themountainchurch.com/event/iglesia-christiana-esperanza-de-vida-2/2030-11-10/
LOCATION:The Mountain Church\, 300 East 8000 South\, Sandy\, UT\, 84070\, United States
END:VEVENT
END:VCALENDAR