BEGIN:VCALENDAR
VERSION:2.0
PRODID:-//The Mountain Church - ECPv6.11.0.1//NONSGML v1.0//EN
CALSCALE:GREGORIAN
METHOD:PUBLISH
X-ORIGINAL-URL:https://themountainchurch.com
X-WR-CALDESC:Events for The Mountain Church
REFRESH-INTERVAL;VALUE=DURATION:PT1H
X-Robots-Tag:noindex
X-PUBLISHED-TTL:PT1H
BEGIN:VTIMEZONE
TZID:America/Phoenix
BEGIN:STANDARD
TZOFFSETFROM:-0700
TZOFFSETTO:-0700
TZNAME:MST
DTSTART:20260101T000000
END:STANDARD
END:VTIMEZONE
BEGIN:VEVENT
DTSTART;TZID=America/Phoenix:20260924T180000
DTEND;TZID=America/Phoenix:20260924T203000
DTSTAMP:20260424T192940
CREATED:20260424T031650Z
LAST-MODIFIED:20260424T032134Z
UID:10004292-1790272800-1790281800@themountainchurch.com
SUMMARY:Recovery at The Mountain
DESCRIPTION:Join us as we walk out our recovery as a community. \nMain sessions in the Summit Room
URL:https://themountainchurch.com/event/recovery-at-the-mountain/2026-09-24/
LOCATION:The Mountain Church\, 300 East 8000 South\, Sandy\, UT\, 84070\, United States
ATTACH;FMTTYPE=image/png:https://themountainchurch.com/wp-content/uploads/2026/04/Recovery-Logo-scaled.png
END:VEVENT
BEGIN:VEVENT
DTSTART;TZID=America/Phoenix:20261001T180000
DTEND;TZID=America/Phoenix:20261001T203000
DTSTAMP:20260424T192940
CREATED:20260424T031650Z
LAST-MODIFIED:20260424T032134Z
UID:10004293-1790877600-1790886600@themountainchurch.com
SUMMARY:Recovery at The Mountain
DESCRIPTION:Join us as we walk out our recovery as a community. \nMain sessions in the Summit Room
URL:https://themountainchurch.com/event/recovery-at-the-mountain/2026-10-01/
LOCATION:The Mountain Church\, 300 East 8000 South\, Sandy\, UT\, 84070\, United States
ATTACH;FMTTYPE=image/png:https://themountainchurch.com/wp-content/uploads/2026/04/Recovery-Logo-scaled.png
END:VEVENT
BEGIN:VEVENT
DTSTART;TZID=America/Phoenix:20261008T180000
DTEND;TZID=America/Phoenix:20261008T203000
DTSTAMP:20260424T192940
CREATED:20260424T031650Z
LAST-MODIFIED:20260424T032134Z
UID:10004294-1791482400-1791491400@themountainchurch.com
SUMMARY:Recovery at The Mountain
DESCRIPTION:Join us as we walk out our recovery as a community. \nMain sessions in the Summit Room
URL:https://themountainchurch.com/event/recovery-at-the-mountain/2026-10-08/
LOCATION:The Mountain Church\, 300 East 8000 South\, Sandy\, UT\, 84070\, United States
ATTACH;FMTTYPE=image/png:https://themountainchurch.com/wp-content/uploads/2026/04/Recovery-Logo-scaled.png
END:VEVENT
BEGIN:VEVENT
DTSTART;TZID=America/Phoenix:20261015T180000
DTEND;TZID=America/Phoenix:20261015T203000
DTSTAMP:20260424T192940
CREATED:20260424T031650Z
LAST-MODIFIED:20260424T032134Z
UID:10004295-1792087200-1792096200@themountainchurch.com
SUMMARY:Recovery at The Mountain
DESCRIPTION:Join us as we walk out our recovery as a community. \nMain sessions in the Summit Room
URL:https://themountainchurch.com/event/recovery-at-the-mountain/2026-10-15/
LOCATION:The Mountain Church\, 300 East 8000 South\, Sandy\, UT\, 84070\, United States
ATTACH;FMTTYPE=image/png:https://themountainchurch.com/wp-content/uploads/2026/04/Recovery-Logo-scaled.png
END:VEVENT
BEGIN:VEVENT
DTSTART;TZID=America/Phoenix:20261022T180000
DTEND;TZID=America/Phoenix:20261022T203000
DTSTAMP:20260424T192940
CREATED:20260424T031650Z
LAST-MODIFIED:20260424T032134Z
UID:10004296-1792692000-1792701000@themountainchurch.com
SUMMARY:Recovery at The Mountain
DESCRIPTION:Join us as we walk out our recovery as a community. \nMain sessions in the Summit Room
URL:https://themountainchurch.com/event/recovery-at-the-mountain/2026-10-22/
LOCATION:The Mountain Church\, 300 East 8000 South\, Sandy\, UT\, 84070\, United States
ATTACH;FMTTYPE=image/png:https://themountainchurch.com/wp-content/uploads/2026/04/Recovery-Logo-scaled.png
END:VEVENT
BEGIN:VEVENT
DTSTART;TZID=America/Phoenix:20261029T180000
DTEND;TZID=America/Phoenix:20261029T203000
DTSTAMP:20260424T192940
CREATED:20260424T031650Z
LAST-MODIFIED:20260424T032134Z
UID:10004297-1793296800-1793305800@themountainchurch.com
SUMMARY:Recovery at The Mountain
DESCRIPTION:Join us as we walk out our recovery as a community. \nMain sessions in the Summit Room
URL:https://themountainchurch.com/event/recovery-at-the-mountain/2026-10-29/
LOCATION:The Mountain Church\, 300 East 8000 South\, Sandy\, UT\, 84070\, United States
ATTACH;FMTTYPE=image/png:https://themountainchurch.com/wp-content/uploads/2026/04/Recovery-Logo-scaled.png
END:VEVENT
BEGIN:VEVENT
DTSTART;TZID=America/Phoenix:20261105T180000
DTEND;TZID=America/Phoenix:20261105T203000
DTSTAMP:20260424T192940
CREATED:20260424T031650Z
LAST-MODIFIED:20260424T032134Z
UID:10004298-1793901600-1793910600@themountainchurch.com
SUMMARY:Recovery at The Mountain
DESCRIPTION:Join us as we walk out our recovery as a community. \nMain sessions in the Summit Room
URL:https://themountainchurch.com/event/recovery-at-the-mountain/2026-11-05/
LOCATION:The Mountain Church\, 300 East 8000 South\, Sandy\, UT\, 84070\, United States
ATTACH;FMTTYPE=image/png:https://themountainchurch.com/wp-content/uploads/2026/04/Recovery-Logo-scaled.png
END:VEVENT
BEGIN:VEVENT
DTSTART;TZID=America/Phoenix:20261112T180000
DTEND;TZID=America/Phoenix:20261112T203000
DTSTAMP:20260424T192940
CREATED:20260424T031650Z
LAST-MODIFIED:20260424T032134Z
UID:10004299-1794506400-1794515400@themountainchurch.com
SUMMARY:Recovery at The Mountain
DESCRIPTION:Join us as we walk out our recovery as a community. \nMain sessions in the Summit Room
URL:https://themountainchurch.com/event/recovery-at-the-mountain/2026-11-12/
LOCATION:The Mountain Church\, 300 East 8000 South\, Sandy\, UT\, 84070\, United States
ATTACH;FMTTYPE=image/png:https://themountainchurch.com/wp-content/uploads/2026/04/Recovery-Logo-scaled.png
END:VEVENT
BEGIN:VEVENT
DTSTART;TZID=America/Phoenix:20261119T180000
DTEND;TZID=America/Phoenix:20261119T203000
DTSTAMP:20260424T192940
CREATED:20260424T031650Z
LAST-MODIFIED:20260424T032134Z
UID:10004300-1795111200-1795120200@themountainchurch.com
SUMMARY:Recovery at The Mountain
DESCRIPTION:Join us as we walk out our recovery as a community. \nMain sessions in the Summit Room
URL:https://themountainchurch.com/event/recovery-at-the-mountain/2026-11-19/
LOCATION:The Mountain Church\, 300 East 8000 South\, Sandy\, UT\, 84070\, United States
ATTACH;FMTTYPE=image/png:https://themountainchurch.com/wp-content/uploads/2026/04/Recovery-Logo-scaled.png
END:VEVENT
BEGIN:VEVENT
DTSTART;TZID=America/Phoenix:20261126T180000
DTEND;TZID=America/Phoenix:20261126T203000
DTSTAMP:20260424T192940
CREATED:20260424T031650Z
LAST-MODIFIED:20260424T032134Z
UID:10004301-1795716000-1795725000@themountainchurch.com
SUMMARY:Recovery at The Mountain
DESCRIPTION:Join us as we walk out our recovery as a community. \nMain sessions in the Summit Room
URL:https://themountainchurch.com/event/recovery-at-the-mountain/2026-11-26/
LOCATION:The Mountain Church\, 300 East 8000 South\, Sandy\, UT\, 84070\, United States
ATTACH;FMTTYPE=image/png:https://themountainchurch.com/wp-content/uploads/2026/04/Recovery-Logo-scaled.png
END:VEVENT
BEGIN:VEVENT
DTSTART;TZID=America/Phoenix:20261203T180000
DTEND;TZID=America/Phoenix:20261203T203000
DTSTAMP:20260424T192940
CREATED:20260424T031650Z
LAST-MODIFIED:20260424T032134Z
UID:10004302-1796320800-1796329800@themountainchurch.com
SUMMARY:Recovery at The Mountain
DESCRIPTION:Join us as we walk out our recovery as a community. \nMain sessions in the Summit Room
URL:https://themountainchurch.com/event/recovery-at-the-mountain/2026-12-03/
LOCATION:The Mountain Church\, 300 East 8000 South\, Sandy\, UT\, 84070\, United States
ATTACH;FMTTYPE=image/png:https://themountainchurch.com/wp-content/uploads/2026/04/Recovery-Logo-scaled.png
END:VEVENT
BEGIN:VEVENT
DTSTART;TZID=America/Phoenix:20261210T180000
DTEND;TZID=America/Phoenix:20261210T203000
DTSTAMP:20260424T192940
CREATED:20260424T031650Z
LAST-MODIFIED:20260424T032134Z
UID:10004303-1796925600-1796934600@themountainchurch.com
SUMMARY:Recovery at The Mountain
DESCRIPTION:Join us as we walk out our recovery as a community. \nMain sessions in the Summit Room
URL:https://themountainchurch.com/event/recovery-at-the-mountain/2026-12-10/
LOCATION:The Mountain Church\, 300 East 8000 South\, Sandy\, UT\, 84070\, United States
ATTACH;FMTTYPE=image/png:https://themountainchurch.com/wp-content/uploads/2026/04/Recovery-Logo-scaled.png
END:VEVENT
BEGIN:VEVENT
DTSTART;TZID=America/Phoenix:20261217T180000
DTEND;TZID=America/Phoenix:20261217T203000
DTSTAMP:20260424T192940
CREATED:20260424T031650Z
LAST-MODIFIED:20260424T032134Z
UID:10004304-1797530400-1797539400@themountainchurch.com
SUMMARY:Recovery at The Mountain
DESCRIPTION:Join us as we walk out our recovery as a community. \nMain sessions in the Summit Room
URL:https://themountainchurch.com/event/recovery-at-the-mountain/2026-12-17/
LOCATION:The Mountain Church\, 300 East 8000 South\, Sandy\, UT\, 84070\, United States
ATTACH;FMTTYPE=image/png:https://themountainchurch.com/wp-content/uploads/2026/04/Recovery-Logo-scaled.png
END:VEVENT
BEGIN:VEVENT
DTSTART;TZID=America/Phoenix:20261224T180000
DTEND;TZID=America/Phoenix:20261224T203000
DTSTAMP:20260424T192940
CREATED:20260424T031650Z
LAST-MODIFIED:20260424T032134Z
UID:10004305-1798135200-1798144200@themountainchurch.com
SUMMARY:Recovery at The Mountain
DESCRIPTION:Join us as we walk out our recovery as a community. \nMain sessions in the Summit Room
URL:https://themountainchurch.com/event/recovery-at-the-mountain/2026-12-24/
LOCATION:The Mountain Church\, 300 East 8000 South\, Sandy\, UT\, 84070\, United States
ATTACH;FMTTYPE=image/png:https://themountainchurch.com/wp-content/uploads/2026/04/Recovery-Logo-scaled.png
END:VEVENT
BEGIN:VEVENT
DTSTART;TZID=America/Phoenix:20261231T180000
DTEND;TZID=America/Phoenix:20261231T203000
DTSTAMP:20260424T192940
CREATED:20260424T031650Z
LAST-MODIFIED:20260424T032134Z
UID:10004306-1798740000-1798749000@themountainchurch.com
SUMMARY:Recovery at The Mountain
DESCRIPTION:Join us as we walk out our recovery as a community. \nMain sessions in the Summit Room
URL:https://themountainchurch.com/event/recovery-at-the-mountain/2026-12-31/
LOCATION:The Mountain Church\, 300 East 8000 South\, Sandy\, UT\, 84070\, United States
ATTACH;FMTTYPE=image/png:https://themountainchurch.com/wp-content/uploads/2026/04/Recovery-Logo-scaled.png
END:VEVENT
BEGIN:VEVENT
DTSTART;TZID=America/Phoenix:20270107T180000
DTEND;TZID=America/Phoenix:20270107T203000
DTSTAMP:20260424T192940
CREATED:20260424T031650Z
LAST-MODIFIED:20260424T032134Z
UID:10004307-1799344800-1799353800@themountainchurch.com
SUMMARY:Recovery at The Mountain
DESCRIPTION:Join us as we walk out our recovery as a community. \nMain sessions in the Summit Room
URL:https://themountainchurch.com/event/recovery-at-the-mountain/2027-01-07/
LOCATION:The Mountain Church\, 300 East 8000 South\, Sandy\, UT\, 84070\, United States
ATTACH;FMTTYPE=image/png:https://themountainchurch.com/wp-content/uploads/2026/04/Recovery-Logo-scaled.png
END:VEVENT
BEGIN:VEVENT
DTSTART;TZID=America/Phoenix:20270114T180000
DTEND;TZID=America/Phoenix:20270114T203000
DTSTAMP:20260424T192940
CREATED:20260424T031650Z
LAST-MODIFIED:20260424T032134Z
UID:10004308-1799949600-1799958600@themountainchurch.com
SUMMARY:Recovery at The Mountain
DESCRIPTION:Join us as we walk out our recovery as a community. \nMain sessions in the Summit Room
URL:https://themountainchurch.com/event/recovery-at-the-mountain/2027-01-14/
LOCATION:The Mountain Church\, 300 East 8000 South\, Sandy\, UT\, 84070\, United States
ATTACH;FMTTYPE=image/png:https://themountainchurch.com/wp-content/uploads/2026/04/Recovery-Logo-scaled.png
END:VEVENT
BEGIN:VEVENT
DTSTART;TZID=America/Phoenix:20270121T180000
DTEND;TZID=America/Phoenix:20270121T203000
DTSTAMP:20260424T192940
CREATED:20260424T031650Z
LAST-MODIFIED:20260424T032134Z
UID:10004309-1800554400-1800563400@themountainchurch.com
SUMMARY:Recovery at The Mountain
DESCRIPTION:Join us as we walk out our recovery as a community. \nMain sessions in the Summit Room
URL:https://themountainchurch.com/event/recovery-at-the-mountain/2027-01-21/
LOCATION:The Mountain Church\, 300 East 8000 South\, Sandy\, UT\, 84070\, United States
ATTACH;FMTTYPE=image/png:https://themountainchurch.com/wp-content/uploads/2026/04/Recovery-Logo-scaled.png
END:VEVENT
BEGIN:VEVENT
DTSTART;TZID=America/Phoenix:20270128T180000
DTEND;TZID=America/Phoenix:20270128T203000
DTSTAMP:20260424T192940
CREATED:20260424T031650Z
LAST-MODIFIED:20260424T032134Z
UID:10004310-1801159200-1801168200@themountainchurch.com
SUMMARY:Recovery at The Mountain
DESCRIPTION:Join us as we walk out our recovery as a community. \nMain sessions in the Summit Room
URL:https://themountainchurch.com/event/recovery-at-the-mountain/2027-01-28/
LOCATION:The Mountain Church\, 300 East 8000 South\, Sandy\, UT\, 84070\, United States
ATTACH;FMTTYPE=image/png:https://themountainchurch.com/wp-content/uploads/2026/04/Recovery-Logo-scaled.png
END:VEVENT
BEGIN:VEVENT
DTSTART;TZID=America/Phoenix:20270204T180000
DTEND;TZID=America/Phoenix:20270204T203000
DTSTAMP:20260424T192940
CREATED:20260424T031650Z
LAST-MODIFIED:20260424T032134Z
UID:10004311-1801764000-1801773000@themountainchurch.com
SUMMARY:Recovery at The Mountain
DESCRIPTION:Join us as we walk out our recovery as a community. \nMain sessions in the Summit Room
URL:https://themountainchurch.com/event/recovery-at-the-mountain/2027-02-04/
LOCATION:The Mountain Church\, 300 East 8000 South\, Sandy\, UT\, 84070\, United States
ATTACH;FMTTYPE=image/png:https://themountainchurch.com/wp-content/uploads/2026/04/Recovery-Logo-scaled.png
END:VEVENT
BEGIN:VEVENT
DTSTART;TZID=America/Phoenix:20270211T180000
DTEND;TZID=America/Phoenix:20270211T203000
DTSTAMP:20260424T192940
CREATED:20260424T031650Z
LAST-MODIFIED:20260424T032134Z
UID:10004312-1802368800-1802377800@themountainchurch.com
SUMMARY:Recovery at The Mountain
DESCRIPTION:Join us as we walk out our recovery as a community. \nMain sessions in the Summit Room
URL:https://themountainchurch.com/event/recovery-at-the-mountain/2027-02-11/
LOCATION:The Mountain Church\, 300 East 8000 South\, Sandy\, UT\, 84070\, United States
ATTACH;FMTTYPE=image/png:https://themountainchurch.com/wp-content/uploads/2026/04/Recovery-Logo-scaled.png
END:VEVENT
BEGIN:VEVENT
DTSTART;TZID=America/Phoenix:20270218T180000
DTEND;TZID=America/Phoenix:20270218T203000
DTSTAMP:20260424T192940
CREATED:20260424T031650Z
LAST-MODIFIED:20260424T032134Z
UID:10004313-1802973600-1802982600@themountainchurch.com
SUMMARY:Recovery at The Mountain
DESCRIPTION:Join us as we walk out our recovery as a community. \nMain sessions in the Summit Room
URL:https://themountainchurch.com/event/recovery-at-the-mountain/2027-02-18/
LOCATION:The Mountain Church\, 300 East 8000 South\, Sandy\, UT\, 84070\, United States
ATTACH;FMTTYPE=image/png:https://themountainchurch.com/wp-content/uploads/2026/04/Recovery-Logo-scaled.png
END:VEVENT
BEGIN:VEVENT
DTSTART;TZID=America/Phoenix:20270225T180000
DTEND;TZID=America/Phoenix:20270225T203000
DTSTAMP:20260424T192940
CREATED:20260424T031650Z
LAST-MODIFIED:20260424T032134Z
UID:10004314-1803578400-1803587400@themountainchurch.com
SUMMARY:Recovery at The Mountain
DESCRIPTION:Join us as we walk out our recovery as a community. \nMain sessions in the Summit Room
URL:https://themountainchurch.com/event/recovery-at-the-mountain/2027-02-25/
LOCATION:The Mountain Church\, 300 East 8000 South\, Sandy\, UT\, 84070\, United States
ATTACH;FMTTYPE=image/png:https://themountainchurch.com/wp-content/uploads/2026/04/Recovery-Logo-scaled.png
END:VEVENT
BEGIN:VEVENT
DTSTART;TZID=America/Phoenix:20270304T180000
DTEND;TZID=America/Phoenix:20270304T203000
DTSTAMP:20260424T192940
CREATED:20260424T031650Z
LAST-MODIFIED:20260424T032134Z
UID:10004315-1804183200-1804192200@themountainchurch.com
SUMMARY:Recovery at The Mountain
DESCRIPTION:Join us as we walk out our recovery as a community. \nMain sessions in the Summit Room
URL:https://themountainchurch.com/event/recovery-at-the-mountain/2027-03-04/
LOCATION:The Mountain Church\, 300 East 8000 South\, Sandy\, UT\, 84070\, United States
ATTACH;FMTTYPE=image/png:https://themountainchurch.com/wp-content/uploads/2026/04/Recovery-Logo-scaled.png
END:VEVENT
BEGIN:VEVENT
DTSTART;TZID=America/Phoenix:20270311T180000
DTEND;TZID=America/Phoenix:20270311T203000
DTSTAMP:20260424T192940
CREATED:20260424T031650Z
LAST-MODIFIED:20260424T032134Z
UID:10004316-1804788000-1804797000@themountainchurch.com
SUMMARY:Recovery at The Mountain
DESCRIPTION:Join us as we walk out our recovery as a community. \nMain sessions in the Summit Room
URL:https://themountainchurch.com/event/recovery-at-the-mountain/2027-03-11/
LOCATION:The Mountain Church\, 300 East 8000 South\, Sandy\, UT\, 84070\, United States
ATTACH;FMTTYPE=image/png:https://themountainchurch.com/wp-content/uploads/2026/04/Recovery-Logo-scaled.png
END:VEVENT
BEGIN:VEVENT
DTSTART;TZID=America/Phoenix:20270318T180000
DTEND;TZID=America/Phoenix:20270318T203000
DTSTAMP:20260424T192940
CREATED:20260424T031650Z
LAST-MODIFIED:20260424T032134Z
UID:10004317-1805392800-1805401800@themountainchurch.com
SUMMARY:Recovery at The Mountain
DESCRIPTION:Join us as we walk out our recovery as a community. \nMain sessions in the Summit Room
URL:https://themountainchurch.com/event/recovery-at-the-mountain/2027-03-18/
LOCATION:The Mountain Church\, 300 East 8000 South\, Sandy\, UT\, 84070\, United States
ATTACH;FMTTYPE=image/png:https://themountainchurch.com/wp-content/uploads/2026/04/Recovery-Logo-scaled.png
END:VEVENT
BEGIN:VEVENT
DTSTART;TZID=America/Phoenix:20270325T180000
DTEND;TZID=America/Phoenix:20270325T203000
DTSTAMP:20260424T192940
CREATED:20260424T031650Z
LAST-MODIFIED:20260424T032134Z
UID:10004318-1805997600-1806006600@themountainchurch.com
SUMMARY:Recovery at The Mountain
DESCRIPTION:Join us as we walk out our recovery as a community. \nMain sessions in the Summit Room
URL:https://themountainchurch.com/event/recovery-at-the-mountain/2027-03-25/
LOCATION:The Mountain Church\, 300 East 8000 South\, Sandy\, UT\, 84070\, United States
ATTACH;FMTTYPE=image/png:https://themountainchurch.com/wp-content/uploads/2026/04/Recovery-Logo-scaled.png
END:VEVENT
BEGIN:VEVENT
DTSTART;TZID=America/Phoenix:20270401T180000
DTEND;TZID=America/Phoenix:20270401T203000
DTSTAMP:20260424T192940
CREATED:20260424T031650Z
LAST-MODIFIED:20260424T032134Z
UID:10004319-1806602400-1806611400@themountainchurch.com
SUMMARY:Recovery at The Mountain
DESCRIPTION:Join us as we walk out our recovery as a community. \nMain sessions in the Summit Room
URL:https://themountainchurch.com/event/recovery-at-the-mountain/2027-04-01/
LOCATION:The Mountain Church\, 300 East 8000 South\, Sandy\, UT\, 84070\, United States
ATTACH;FMTTYPE=image/png:https://themountainchurch.com/wp-content/uploads/2026/04/Recovery-Logo-scaled.png
END:VEVENT
BEGIN:VEVENT
DTSTART;TZID=America/Phoenix:20270408T180000
DTEND;TZID=America/Phoenix:20270408T203000
DTSTAMP:20260424T192940
CREATED:20260424T031650Z
LAST-MODIFIED:20260424T032134Z
UID:10004320-1807207200-1807216200@themountainchurch.com
SUMMARY:Recovery at The Mountain
DESCRIPTION:Join us as we walk out our recovery as a community. \nMain sessions in the Summit Room
URL:https://themountainchurch.com/event/recovery-at-the-mountain/2027-04-08/
LOCATION:The Mountain Church\, 300 East 8000 South\, Sandy\, UT\, 84070\, United States
ATTACH;FMTTYPE=image/png:https://themountainchurch.com/wp-content/uploads/2026/04/Recovery-Logo-scaled.png
END:VEVENT
BEGIN:VEVENT
DTSTART;TZID=America/Phoenix:20270415T180000
DTEND;TZID=America/Phoenix:20270415T203000
DTSTAMP:20260424T192940
CREATED:20260424T031650Z
LAST-MODIFIED:20260424T032134Z
UID:10004321-1807812000-1807821000@themountainchurch.com
SUMMARY:Recovery at The Mountain
DESCRIPTION:Join us as we walk out our recovery as a community. \nMain sessions in the Summit Room
URL:https://themountainchurch.com/event/recovery-at-the-mountain/2027-04-15/
LOCATION:The Mountain Church\, 300 East 8000 South\, Sandy\, UT\, 84070\, United States
ATTACH;FMTTYPE=image/png:https://themountainchurch.com/wp-content/uploads/2026/04/Recovery-Logo-scaled.png
END:VEVENT
END:VCALENDAR