BEGIN:VCALENDAR
VERSION:2.0
PRODID:-//The Mountain Church - ECPv6.11.0.1//NONSGML v1.0//EN
CALSCALE:GREGORIAN
METHOD:PUBLISH
X-ORIGINAL-URL:https://themountainchurch.com
X-WR-CALDESC:Events for The Mountain Church
REFRESH-INTERVAL;VALUE=DURATION:PT1H
X-Robots-Tag:noindex
X-PUBLISHED-TTL:PT1H
BEGIN:VTIMEZONE
TZID:America/Phoenix
BEGIN:STANDARD
TZOFFSETFROM:-0700
TZOFFSETTO:-0700
TZNAME:MST
DTSTART:20260101T000000
END:STANDARD
END:VTIMEZONE
BEGIN:VEVENT
DTSTART;TZID=America/Phoenix:20260425T140000
DTEND;TZID=America/Phoenix:20260425T160000
DTSTAMP:20260419T170534
CREATED:20260419T132048Z
LAST-MODIFIED:20260419T132048Z
UID:10004270-1777125600-1777132800@themountainchurch.com
SUMMARY:Youth Outing - Classic Skating
DESCRIPTION:Contact Betsy or Gleiser for more information.
URL:https://themountainchurch.com/event/youth-outing-classic-skating/
ORGANIZER;CN="Summit Youth Ministries":MAILTO:summityouth@themountain.church
END:VEVENT
END:VCALENDAR