BEGIN:VCALENDAR
VERSION:2.0
PRODID:-//The Mountain Church - ECPv6.11.0.1//NONSGML v1.0//EN
CALSCALE:GREGORIAN
METHOD:PUBLISH
X-ORIGINAL-URL:https://themountainchurch.com
X-WR-CALDESC:Events for The Mountain Church
REFRESH-INTERVAL;VALUE=DURATION:PT1H
X-Robots-Tag:noindex
X-PUBLISHED-TTL:PT1H
BEGIN:VTIMEZONE
TZID:America/Phoenix
BEGIN:STANDARD
TZOFFSETFROM:-0700
TZOFFSETTO:-0700
TZNAME:MST
DTSTART:20300101T000000
END:STANDARD
END:VTIMEZONE
BEGIN:VEVENT
DTSTART;TZID=America/Phoenix:20300217T170000
DTEND;TZID=America/Phoenix:20300217T193000
DTSTAMP:20260419T121358
CREATED:20251110T190455Z
LAST-MODIFIED:20251110T190455Z
UID:10004103-1897578000-1897587000@themountainchurch.com
SUMMARY:Iglesia Cristiana: Esperanza De Vida
DESCRIPTION:Domingo : 5:00 pm
URL:https://themountainchurch.com/event/iglesia-christiana-esperanza-de-vida-2/2030-02-17/
LOCATION:The Mountain Church\, 300 East 8000 South\, Sandy\, UT\, 84070\, United States
END:VEVENT
BEGIN:VEVENT
DTSTART;TZID=America/Phoenix:20300224T130000
DTEND;TZID=America/Phoenix:20300224T153000
DTSTAMP:20260419T121358
CREATED:20240819T175316Z
LAST-MODIFIED:20251110T190006Z
UID:10003984-1898168400-1898177400@themountainchurch.com
SUMMARY:Lighthouse AG
DESCRIPTION:Come join us at 1:30 PM for church at Lighthouse AG Samoan Church. We meet every Sunday at The Mountain Church in Sandy\, UT. You can also join us online via Youtube or Facebook. Livestream starts at 1:30 PM (MST).
URL:https://themountainchurch.com/event/lighthouse-ag/2030-02-24/
LOCATION:The Mountain Church\, 300 East 8000 South\, Sandy\, UT\, 84070\, United States
END:VEVENT
BEGIN:VEVENT
DTSTART;TZID=America/Phoenix:20300224T170000
DTEND;TZID=America/Phoenix:20300224T193000
DTSTAMP:20260419T121358
CREATED:20251110T190455Z
LAST-MODIFIED:20251110T190455Z
UID:10004104-1898182800-1898191800@themountainchurch.com
SUMMARY:Iglesia Cristiana: Esperanza De Vida
DESCRIPTION:Domingo : 5:00 pm
URL:https://themountainchurch.com/event/iglesia-christiana-esperanza-de-vida-2/2030-02-24/
LOCATION:The Mountain Church\, 300 East 8000 South\, Sandy\, UT\, 84070\, United States
END:VEVENT
BEGIN:VEVENT
DTSTART;TZID=America/Phoenix:20300303T130000
DTEND;TZID=America/Phoenix:20300303T153000
DTSTAMP:20260419T121358
CREATED:20240819T175316Z
LAST-MODIFIED:20251110T190006Z
UID:10003985-1898773200-1898782200@themountainchurch.com
SUMMARY:Lighthouse AG
DESCRIPTION:Come join us at 1:30 PM for church at Lighthouse AG Samoan Church. We meet every Sunday at The Mountain Church in Sandy\, UT. You can also join us online via Youtube or Facebook. Livestream starts at 1:30 PM (MST).
URL:https://themountainchurch.com/event/lighthouse-ag/2030-03-03/
LOCATION:The Mountain Church\, 300 East 8000 South\, Sandy\, UT\, 84070\, United States
END:VEVENT
BEGIN:VEVENT
DTSTART;TZID=America/Phoenix:20300303T170000
DTEND;TZID=America/Phoenix:20300303T193000
DTSTAMP:20260419T121358
CREATED:20251110T190455Z
LAST-MODIFIED:20251110T190455Z
UID:10004105-1898787600-1898796600@themountainchurch.com
SUMMARY:Iglesia Cristiana: Esperanza De Vida
DESCRIPTION:Domingo : 5:00 pm
URL:https://themountainchurch.com/event/iglesia-christiana-esperanza-de-vida-2/2030-03-03/
LOCATION:The Mountain Church\, 300 East 8000 South\, Sandy\, UT\, 84070\, United States
END:VEVENT
BEGIN:VEVENT
DTSTART;TZID=America/Phoenix:20300310T130000
DTEND;TZID=America/Phoenix:20300310T153000
DTSTAMP:20260419T121358
CREATED:20240819T175316Z
LAST-MODIFIED:20251110T190006Z
UID:10003986-1899378000-1899387000@themountainchurch.com
SUMMARY:Lighthouse AG
DESCRIPTION:Come join us at 1:30 PM for church at Lighthouse AG Samoan Church. We meet every Sunday at The Mountain Church in Sandy\, UT. You can also join us online via Youtube or Facebook. Livestream starts at 1:30 PM (MST).
URL:https://themountainchurch.com/event/lighthouse-ag/2030-03-10/
LOCATION:The Mountain Church\, 300 East 8000 South\, Sandy\, UT\, 84070\, United States
END:VEVENT
BEGIN:VEVENT
DTSTART;TZID=America/Phoenix:20300310T170000
DTEND;TZID=America/Phoenix:20300310T193000
DTSTAMP:20260419T121358
CREATED:20251110T190455Z
LAST-MODIFIED:20251110T190455Z
UID:10004106-1899392400-1899401400@themountainchurch.com
SUMMARY:Iglesia Cristiana: Esperanza De Vida
DESCRIPTION:Domingo : 5:00 pm
URL:https://themountainchurch.com/event/iglesia-christiana-esperanza-de-vida-2/2030-03-10/
LOCATION:The Mountain Church\, 300 East 8000 South\, Sandy\, UT\, 84070\, United States
END:VEVENT
BEGIN:VEVENT
DTSTART;TZID=America/Phoenix:20300317T130000
DTEND;TZID=America/Phoenix:20300317T153000
DTSTAMP:20260419T121358
CREATED:20240819T175316Z
LAST-MODIFIED:20251110T190006Z
UID:10003987-1899982800-1899991800@themountainchurch.com
SUMMARY:Lighthouse AG
DESCRIPTION:Come join us at 1:30 PM for church at Lighthouse AG Samoan Church. We meet every Sunday at The Mountain Church in Sandy\, UT. You can also join us online via Youtube or Facebook. Livestream starts at 1:30 PM (MST).
URL:https://themountainchurch.com/event/lighthouse-ag/2030-03-17/
LOCATION:The Mountain Church\, 300 East 8000 South\, Sandy\, UT\, 84070\, United States
END:VEVENT
BEGIN:VEVENT
DTSTART;TZID=America/Phoenix:20300317T170000
DTEND;TZID=America/Phoenix:20300317T193000
DTSTAMP:20260419T121358
CREATED:20251110T190455Z
LAST-MODIFIED:20251110T190455Z
UID:10004107-1899997200-1900006200@themountainchurch.com
SUMMARY:Iglesia Cristiana: Esperanza De Vida
DESCRIPTION:Domingo : 5:00 pm
URL:https://themountainchurch.com/event/iglesia-christiana-esperanza-de-vida-2/2030-03-17/
LOCATION:The Mountain Church\, 300 East 8000 South\, Sandy\, UT\, 84070\, United States
END:VEVENT
BEGIN:VEVENT
DTSTART;TZID=America/Phoenix:20300324T130000
DTEND;TZID=America/Phoenix:20300324T153000
DTSTAMP:20260419T121358
CREATED:20240819T175316Z
LAST-MODIFIED:20251110T190006Z
UID:10003988-1900587600-1900596600@themountainchurch.com
SUMMARY:Lighthouse AG
DESCRIPTION:Come join us at 1:30 PM for church at Lighthouse AG Samoan Church. We meet every Sunday at The Mountain Church in Sandy\, UT. You can also join us online via Youtube or Facebook. Livestream starts at 1:30 PM (MST).
URL:https://themountainchurch.com/event/lighthouse-ag/2030-03-24/
LOCATION:The Mountain Church\, 300 East 8000 South\, Sandy\, UT\, 84070\, United States
END:VEVENT
BEGIN:VEVENT
DTSTART;TZID=America/Phoenix:20300324T170000
DTEND;TZID=America/Phoenix:20300324T193000
DTSTAMP:20260419T121358
CREATED:20251110T190455Z
LAST-MODIFIED:20251110T190455Z
UID:10004108-1900602000-1900611000@themountainchurch.com
SUMMARY:Iglesia Cristiana: Esperanza De Vida
DESCRIPTION:Domingo : 5:00 pm
URL:https://themountainchurch.com/event/iglesia-christiana-esperanza-de-vida-2/2030-03-24/
LOCATION:The Mountain Church\, 300 East 8000 South\, Sandy\, UT\, 84070\, United States
END:VEVENT
BEGIN:VEVENT
DTSTART;TZID=America/Phoenix:20300331T130000
DTEND;TZID=America/Phoenix:20300331T153000
DTSTAMP:20260419T121358
CREATED:20240819T175316Z
LAST-MODIFIED:20251110T190006Z
UID:10003989-1901192400-1901201400@themountainchurch.com
SUMMARY:Lighthouse AG
DESCRIPTION:Come join us at 1:30 PM for church at Lighthouse AG Samoan Church. We meet every Sunday at The Mountain Church in Sandy\, UT. You can also join us online via Youtube or Facebook. Livestream starts at 1:30 PM (MST).
URL:https://themountainchurch.com/event/lighthouse-ag/2030-03-31/
LOCATION:The Mountain Church\, 300 East 8000 South\, Sandy\, UT\, 84070\, United States
END:VEVENT
BEGIN:VEVENT
DTSTART;TZID=America/Phoenix:20300331T170000
DTEND;TZID=America/Phoenix:20300331T193000
DTSTAMP:20260419T121358
CREATED:20251110T190455Z
LAST-MODIFIED:20251110T190455Z
UID:10004109-1901206800-1901215800@themountainchurch.com
SUMMARY:Iglesia Cristiana: Esperanza De Vida
DESCRIPTION:Domingo : 5:00 pm
URL:https://themountainchurch.com/event/iglesia-christiana-esperanza-de-vida-2/2030-03-31/
LOCATION:The Mountain Church\, 300 East 8000 South\, Sandy\, UT\, 84070\, United States
END:VEVENT
BEGIN:VEVENT
DTSTART;TZID=America/Phoenix:20300407T130000
DTEND;TZID=America/Phoenix:20300407T153000
DTSTAMP:20260419T121358
CREATED:20240819T175316Z
LAST-MODIFIED:20251110T190006Z
UID:10003990-1901797200-1901806200@themountainchurch.com
SUMMARY:Lighthouse AG
DESCRIPTION:Come join us at 1:30 PM for church at Lighthouse AG Samoan Church. We meet every Sunday at The Mountain Church in Sandy\, UT. You can also join us online via Youtube or Facebook. Livestream starts at 1:30 PM (MST).
URL:https://themountainchurch.com/event/lighthouse-ag/2030-04-07/
LOCATION:The Mountain Church\, 300 East 8000 South\, Sandy\, UT\, 84070\, United States
END:VEVENT
BEGIN:VEVENT
DTSTART;TZID=America/Phoenix:20300407T170000
DTEND;TZID=America/Phoenix:20300407T193000
DTSTAMP:20260419T121358
CREATED:20251110T190455Z
LAST-MODIFIED:20251110T190455Z
UID:10004110-1901811600-1901820600@themountainchurch.com
SUMMARY:Iglesia Cristiana: Esperanza De Vida
DESCRIPTION:Domingo : 5:00 pm
URL:https://themountainchurch.com/event/iglesia-christiana-esperanza-de-vida-2/2030-04-07/
LOCATION:The Mountain Church\, 300 East 8000 South\, Sandy\, UT\, 84070\, United States
END:VEVENT
BEGIN:VEVENT
DTSTART;TZID=America/Phoenix:20300414T130000
DTEND;TZID=America/Phoenix:20300414T153000
DTSTAMP:20260419T121358
CREATED:20240819T175316Z
LAST-MODIFIED:20251110T190006Z
UID:10003991-1902402000-1902411000@themountainchurch.com
SUMMARY:Lighthouse AG
DESCRIPTION:Come join us at 1:30 PM for church at Lighthouse AG Samoan Church. We meet every Sunday at The Mountain Church in Sandy\, UT. You can also join us online via Youtube or Facebook. Livestream starts at 1:30 PM (MST).
URL:https://themountainchurch.com/event/lighthouse-ag/2030-04-14/
LOCATION:The Mountain Church\, 300 East 8000 South\, Sandy\, UT\, 84070\, United States
END:VEVENT
BEGIN:VEVENT
DTSTART;TZID=America/Phoenix:20300414T170000
DTEND;TZID=America/Phoenix:20300414T193000
DTSTAMP:20260419T121358
CREATED:20251110T190455Z
LAST-MODIFIED:20251110T190455Z
UID:10004111-1902416400-1902425400@themountainchurch.com
SUMMARY:Iglesia Cristiana: Esperanza De Vida
DESCRIPTION:Domingo : 5:00 pm
URL:https://themountainchurch.com/event/iglesia-christiana-esperanza-de-vida-2/2030-04-14/
LOCATION:The Mountain Church\, 300 East 8000 South\, Sandy\, UT\, 84070\, United States
END:VEVENT
BEGIN:VEVENT
DTSTART;TZID=America/Phoenix:20300421T130000
DTEND;TZID=America/Phoenix:20300421T153000
DTSTAMP:20260419T121358
CREATED:20240819T175316Z
LAST-MODIFIED:20251110T190006Z
UID:10003992-1903006800-1903015800@themountainchurch.com
SUMMARY:Lighthouse AG
DESCRIPTION:Come join us at 1:30 PM for church at Lighthouse AG Samoan Church. We meet every Sunday at The Mountain Church in Sandy\, UT. You can also join us online via Youtube or Facebook. Livestream starts at 1:30 PM (MST).
URL:https://themountainchurch.com/event/lighthouse-ag/2030-04-21/
LOCATION:The Mountain Church\, 300 East 8000 South\, Sandy\, UT\, 84070\, United States
END:VEVENT
BEGIN:VEVENT
DTSTART;TZID=America/Phoenix:20300421T170000
DTEND;TZID=America/Phoenix:20300421T193000
DTSTAMP:20260419T121358
CREATED:20251110T190455Z
LAST-MODIFIED:20251110T190455Z
UID:10004112-1903021200-1903030200@themountainchurch.com
SUMMARY:Iglesia Cristiana: Esperanza De Vida
DESCRIPTION:Domingo : 5:00 pm
URL:https://themountainchurch.com/event/iglesia-christiana-esperanza-de-vida-2/2030-04-21/
LOCATION:The Mountain Church\, 300 East 8000 South\, Sandy\, UT\, 84070\, United States
END:VEVENT
BEGIN:VEVENT
DTSTART;TZID=America/Phoenix:20300428T130000
DTEND;TZID=America/Phoenix:20300428T153000
DTSTAMP:20260419T121358
CREATED:20240819T175316Z
LAST-MODIFIED:20251110T190006Z
UID:10003993-1903611600-1903620600@themountainchurch.com
SUMMARY:Lighthouse AG
DESCRIPTION:Come join us at 1:30 PM for church at Lighthouse AG Samoan Church. We meet every Sunday at The Mountain Church in Sandy\, UT. You can also join us online via Youtube or Facebook. Livestream starts at 1:30 PM (MST).
URL:https://themountainchurch.com/event/lighthouse-ag/2030-04-28/
LOCATION:The Mountain Church\, 300 East 8000 South\, Sandy\, UT\, 84070\, United States
END:VEVENT
BEGIN:VEVENT
DTSTART;TZID=America/Phoenix:20300428T170000
DTEND;TZID=America/Phoenix:20300428T193000
DTSTAMP:20260419T121358
CREATED:20251110T190455Z
LAST-MODIFIED:20251110T190455Z
UID:10004113-1903626000-1903635000@themountainchurch.com
SUMMARY:Iglesia Cristiana: Esperanza De Vida
DESCRIPTION:Domingo : 5:00 pm
URL:https://themountainchurch.com/event/iglesia-christiana-esperanza-de-vida-2/2030-04-28/
LOCATION:The Mountain Church\, 300 East 8000 South\, Sandy\, UT\, 84070\, United States
END:VEVENT
BEGIN:VEVENT
DTSTART;TZID=America/Phoenix:20300505T130000
DTEND;TZID=America/Phoenix:20300505T153000
DTSTAMP:20260419T121358
CREATED:20240819T175316Z
LAST-MODIFIED:20251110T190006Z
UID:10003994-1904216400-1904225400@themountainchurch.com
SUMMARY:Lighthouse AG
DESCRIPTION:Come join us at 1:30 PM for church at Lighthouse AG Samoan Church. We meet every Sunday at The Mountain Church in Sandy\, UT. You can also join us online via Youtube or Facebook. Livestream starts at 1:30 PM (MST).
URL:https://themountainchurch.com/event/lighthouse-ag/2030-05-05/
LOCATION:The Mountain Church\, 300 East 8000 South\, Sandy\, UT\, 84070\, United States
END:VEVENT
BEGIN:VEVENT
DTSTART;TZID=America/Phoenix:20300505T170000
DTEND;TZID=America/Phoenix:20300505T193000
DTSTAMP:20260419T121358
CREATED:20251110T190455Z
LAST-MODIFIED:20251110T190455Z
UID:10004114-1904230800-1904239800@themountainchurch.com
SUMMARY:Iglesia Cristiana: Esperanza De Vida
DESCRIPTION:Domingo : 5:00 pm
URL:https://themountainchurch.com/event/iglesia-christiana-esperanza-de-vida-2/2030-05-05/
LOCATION:The Mountain Church\, 300 East 8000 South\, Sandy\, UT\, 84070\, United States
END:VEVENT
BEGIN:VEVENT
DTSTART;TZID=America/Phoenix:20300512T130000
DTEND;TZID=America/Phoenix:20300512T153000
DTSTAMP:20260419T121358
CREATED:20240819T175316Z
LAST-MODIFIED:20251110T190006Z
UID:10003995-1904821200-1904830200@themountainchurch.com
SUMMARY:Lighthouse AG
DESCRIPTION:Come join us at 1:30 PM for church at Lighthouse AG Samoan Church. We meet every Sunday at The Mountain Church in Sandy\, UT. You can also join us online via Youtube or Facebook. Livestream starts at 1:30 PM (MST).
URL:https://themountainchurch.com/event/lighthouse-ag/2030-05-12/
LOCATION:The Mountain Church\, 300 East 8000 South\, Sandy\, UT\, 84070\, United States
END:VEVENT
BEGIN:VEVENT
DTSTART;TZID=America/Phoenix:20300512T170000
DTEND;TZID=America/Phoenix:20300512T193000
DTSTAMP:20260419T121358
CREATED:20251110T190455Z
LAST-MODIFIED:20251110T190455Z
UID:10004115-1904835600-1904844600@themountainchurch.com
SUMMARY:Iglesia Cristiana: Esperanza De Vida
DESCRIPTION:Domingo : 5:00 pm
URL:https://themountainchurch.com/event/iglesia-christiana-esperanza-de-vida-2/2030-05-12/
LOCATION:The Mountain Church\, 300 East 8000 South\, Sandy\, UT\, 84070\, United States
END:VEVENT
BEGIN:VEVENT
DTSTART;TZID=America/Phoenix:20300519T130000
DTEND;TZID=America/Phoenix:20300519T153000
DTSTAMP:20260419T121358
CREATED:20240819T175316Z
LAST-MODIFIED:20251110T190006Z
UID:10003996-1905426000-1905435000@themountainchurch.com
SUMMARY:Lighthouse AG
DESCRIPTION:Come join us at 1:30 PM for church at Lighthouse AG Samoan Church. We meet every Sunday at The Mountain Church in Sandy\, UT. You can also join us online via Youtube or Facebook. Livestream starts at 1:30 PM (MST).
URL:https://themountainchurch.com/event/lighthouse-ag/2030-05-19/
LOCATION:The Mountain Church\, 300 East 8000 South\, Sandy\, UT\, 84070\, United States
END:VEVENT
BEGIN:VEVENT
DTSTART;TZID=America/Phoenix:20300519T170000
DTEND;TZID=America/Phoenix:20300519T193000
DTSTAMP:20260419T121358
CREATED:20251110T190455Z
LAST-MODIFIED:20251110T190455Z
UID:10004116-1905440400-1905449400@themountainchurch.com
SUMMARY:Iglesia Cristiana: Esperanza De Vida
DESCRIPTION:Domingo : 5:00 pm
URL:https://themountainchurch.com/event/iglesia-christiana-esperanza-de-vida-2/2030-05-19/
LOCATION:The Mountain Church\, 300 East 8000 South\, Sandy\, UT\, 84070\, United States
END:VEVENT
BEGIN:VEVENT
DTSTART;TZID=America/Phoenix:20300526T130000
DTEND;TZID=America/Phoenix:20300526T153000
DTSTAMP:20260419T121358
CREATED:20240819T175316Z
LAST-MODIFIED:20251110T190006Z
UID:10003997-1906030800-1906039800@themountainchurch.com
SUMMARY:Lighthouse AG
DESCRIPTION:Come join us at 1:30 PM for church at Lighthouse AG Samoan Church. We meet every Sunday at The Mountain Church in Sandy\, UT. You can also join us online via Youtube or Facebook. Livestream starts at 1:30 PM (MST).
URL:https://themountainchurch.com/event/lighthouse-ag/2030-05-26/
LOCATION:The Mountain Church\, 300 East 8000 South\, Sandy\, UT\, 84070\, United States
END:VEVENT
BEGIN:VEVENT
DTSTART;TZID=America/Phoenix:20300526T170000
DTEND;TZID=America/Phoenix:20300526T193000
DTSTAMP:20260419T121358
CREATED:20251110T190455Z
LAST-MODIFIED:20251110T190455Z
UID:10004117-1906045200-1906054200@themountainchurch.com
SUMMARY:Iglesia Cristiana: Esperanza De Vida
DESCRIPTION:Domingo : 5:00 pm
URL:https://themountainchurch.com/event/iglesia-christiana-esperanza-de-vida-2/2030-05-26/
LOCATION:The Mountain Church\, 300 East 8000 South\, Sandy\, UT\, 84070\, United States
END:VEVENT
BEGIN:VEVENT
DTSTART;TZID=America/Phoenix:20300602T130000
DTEND;TZID=America/Phoenix:20300602T153000
DTSTAMP:20260419T121358
CREATED:20240819T175316Z
LAST-MODIFIED:20251110T190006Z
UID:10003998-1906635600-1906644600@themountainchurch.com
SUMMARY:Lighthouse AG
DESCRIPTION:Come join us at 1:30 PM for church at Lighthouse AG Samoan Church. We meet every Sunday at The Mountain Church in Sandy\, UT. You can also join us online via Youtube or Facebook. Livestream starts at 1:30 PM (MST).
URL:https://themountainchurch.com/event/lighthouse-ag/2030-06-02/
LOCATION:The Mountain Church\, 300 East 8000 South\, Sandy\, UT\, 84070\, United States
END:VEVENT
END:VCALENDAR